BEGIN:VCALENDAR
VERSION:2.0
PRODID:https://www.kufer.de/kuferweb / DE
METHOD:PUBLISH
CALSCALE:GREGORIAN
X-WR-TIMEZONE:Europe/Berlin
BEGIN:VTIMEZONE
TZID:Europe/Berlin
X-LIC-LOCATION:Europe/Berlin
BEGIN:DAYLIGHT
TZOFFSETFROM:+0100
TZOFFSETTO:+0200
TZNAME:CEST
DTSTART:19700329T020000
RRULE:FREQ=YEARLY;INTERVAL=1;BYDAY=-1SU;BYMONTH=3
END:DAYLIGHT
BEGIN:STANDARD
TZOFFSETFROM:+0200
TZOFFSETTO:+0100
TZNAME:CET
DTSTART:19701025T030000
RRULE:FREQ=YEARLY;INTERVAL=1;BYDAY=-1SU;BYMONTH=10
END:STANDARD
END:VTIMEZONE
BEGIN:VEVENT
DTSTAMP:20260422T062844
DTSTART;TZID=Europe/Berlin:20260509T080000
DTEND;TZID=Europe/Berlin:20260509T115000
UID:26-1-6058-20260509T080000@VHSST.PÖLTEN
SUMMARY:Foto - Smartphone-Fotografie (26-1-6058) 
LOCATION:Vereinsheim ESV Fotoclub Kollerbergweg, , 
END:VEVENT
BEGIN:VEVENT
DTSTAMP:20260422T062844
DTSTART;TZID=Europe/Berlin:20260516T080000
DTEND;TZID=Europe/Berlin:20260516T115000
UID:26-1-6058-20260516T080000@VHSST.PÖLTEN
SUMMARY:Foto - Smartphone-Fotografie (26-1-6058) 
LOCATION:Vereinsheim ESV Fotoclub Kollerbergweg, , 
END:VEVENT
BEGIN:VEVENT
DTSTAMP:20260422T062844
DTSTART;TZID=Europe/Berlin:20260523T080000
DTEND;TZID=Europe/Berlin:20260523T115000
UID:26-1-6058-20260523T080000@VHSST.PÖLTEN
SUMMARY:Foto - Smartphone-Fotografie (26-1-6058) 
LOCATION:Vereinsheim ESV Fotoclub Kollerbergweg, , 
END:VEVENT
END:VCALENDAR